BEGIN:VCALENDAR
PRODID://WordPress//Event-Post-V5.9.2//EN
VERSION:2.0
BEGIN:VEVENT
SUMMARY:Rufus T FireFly anuncian concierto en Barcelona para este otoño
UID:https://flashesandsounds.com/rufus-t-firefly-anuncian-concierto-en-barcelona-para-este-otono/
LOCATION:Razzmatazz 1, Barcelona
DTSTAMP:20261127Z
DTSTART:20261127Z
DTEND:20261127Z
DESCRIPTION:Los madrileños Rufus T Firefly pueden presumir de tener uno de los
directos más potentes en toda Europa, y para nuestra suerte acaban de
anunciar que la banda actuará el próximo 27 de noviembre en Razzmatazz 1,
en Barcelona, en una cita clave para seguir de cerca la evolución de una
de las propuestas más personales y respetadas del panorama musical
actual.

El concierto del 27 de noviembre en Razzmatazz 1 supondrá una nueva
oportunidad para experimentar en directo la intensidad y el carácter
envolvente de la banda, en un formato que potencia la cercanía con el
público y la dimensión emocional de su música. Las entradas para esta
cita ya están disponibles a través de Notikumi a un precio de 25 euros
más gastos.

Considerada una banda de culto dentro de la escena independiente estatal,
Rufus T. Firefly ha construido a lo largo de los años un universo sonoro
propio en el que el rock convive con una psicodelia elegante y una marcada
sensibilidad artística. Su propuesta, alejada de fórmulas previsibles, se
caracteriza por una búsqueda constante de nuevas formas de expresión
tanto en estudio como en directo.

Cada uno de sus trabajos discográficos y sus conciertos están concebidos
como experiencias inmersivas, donde la música, la atmósfera y la puesta
en escena se integran en un todo coherente y cuidado al detalle.
Considerada una banda de culto dentro de la escena independiente estatal,
Rufus T. Firefly ha construido a lo largo de los años un universo sonoro
propio en el que el rock convive con una psicodelia elegante y una marcada
sensibilidad artística. Su propuesta, alejada de fórmulas previsibles, se
caracteriza por una búsqueda constante de nuevas formas de expresión
tanto en estudio como en directo.

Cada uno de sus trabajos discográficos y sus conciertos están concebidos
como experiencias inmersivas, donde la música, la atmósfera y la puesta
en escena se integran en un todo coherente y cuidado al detalle.

Una trayectoria en constante evolución

Tras consolidarse con discos como Magnolia (2017) y Loto, el grupo reforzó
su posición dentro del circuito nacional con El Largo Mañana (2021), un
trabajo que los llevó a recorrer salas y festivales de todo el país,
además de actuar en escenarios internacionales como México o Chile.

A lo largo de esta etapa, la banda ha destacado también por su capacidad
de llevar su propuesta más allá del formato tradicional de concierto, con
actuaciones en espacios como el Museo del Prado, festivales y eventos
culturales singulares.

En 2025, Rufus T. Firefly ha regresado con fuerza con el lanzamiento de
Todas las cosas buenas, un disco con el que han abierto nuevas vías de
conexión con el público. Su presentación ha incluido conciertos en
formatos poco convencionales —desde salas de exposiciones hasta espacios
naturales o industriales— manteniendo intacta la voluntad del grupo de
convertir cada actuación en una experiencia única.

Este trabajo ha sido además reconocido por la prensa especializada, con el
PREMIO RUIDO como uno de los discos más destacados del año consolidando a
la banda como uno de los nombres más relevantes del rock independiente
estatal.
 
END:VEVENT
END:VCALENDAR