BEGIN:VCALENDAR
PRODID://WordPress//Event-Post-V5.9.2//EN
VERSION:2.0
BEGIN:VEVENT
SUMMARY:MUJERES vuelven a Barcelona dentro del ciclo Cruïlla Concerts
UID:https://flashesandsounds.com/mujeres-vuelven-a-barcelona-dentro-del-ciclo-cruilla-concerts/
LOCATION:Sala Apollo, Barcelona
DTSTAMP:20270122Z
DTSTART:20270122Z
DTEND:20270122Z
DESCRIPTION:Mujeres, una de las bandas imprescindibles del garage rock estatal,
actuará el próximo 22 de enero de 2027 en la Sala Apolo de Barcelona,
dentro del ciclo Cruïlla Concerts. Con casi 15 años de trayectoria, el
trío barcelonés ha forjado una sólida reputación a base de discos y
directos memorables. Su sonido, a medio camino entre el garage, el pop y el
punk, junto a temas como Aquellos Ojos, Vivir Sin Ti o Un Sentimiento
Importante, forman parte de la memoria emocional de toda una generación.







En constante evolución, Mujeres sigue demostrando que la frescura, la
energía y la honestidad permanecen intactas. En este concierto
presentarán un repertorio que combinará sus canciones más emblemáticas
con nuevas composiciones, en una noche que se prevé intensa y
celebratoria.

Esta actuación se suma a la programación de Cruïlla Concerts, que reúne
a artistas como Pau Vallvé, Tinariwen, Micah P. Hinson, 31FAM y Trueno,
consolidando una propuesta ecléctica y de calidad durante el año.

Las entradas para ver a MUJERES están ya a la venta a través de la web
oficial de Cruïlla.
END:VEVENT
END:VCALENDAR