BEGIN:VCALENDAR
PRODID://WordPress//Event-Post-V5.9.2//EN
VERSION:2.0
BEGIN:VEVENT
SUMMARY:Pau Vallvé tocará en Sant Jordi Club en abril de la mano de Cruïlla Concerts
UID:https://flashesandsounds.com/pau-vallve-tocara-en-sant-jordi-club-en-abril-de-la-mano-de-cruilla-concerts/
LOCATION:Sant Jordi Club, Barcelona
DTSTAMP:20260425Z
DTSTART:20260425Z
DTEND:20260425Z
DESCRIPTION:Hay conciertos que funcionan como simple parada de gira… y luego están
los que se convierten en cierre de etapa. Lo de Pau Vallvé en Barcelona
apunta claramente a lo segundo. El próximo 25 de abril de 2026, el Sant
Jordi Club acogerá el concierto final de la gira de “Agorafília”, el
último capítulo de un recorrido que ha consolidado uno de los momentos
más inspirados del artista catalán.
Después de una intensa gira por todo el país presentando su último
disco, Pau Vallvé anuncia que el próximo 25 de abril, el Sant Jordi Club
de Barcelona será el escenario del concierto final de la gira. Un cierre a
la altura de un año intenso que ha llevado «Agorafília«, su décimo
octavo trabajo discográfico, a recorrer los escenarios de toda Cataluña.
Con entradas agotadas en múltiples ciudades y una entusiasta acogida por
parte del público y la crítica, la gira de «Agorafília» se ha
consolidado como una de las más celebradas de la carrera de Vallvé. Y no
podía tener un mejor final: un último concierto en Barcelona que cerrará
una etapa y marcará un hito en la trayectoria del artista.
Para esta ocasión tan especial, Pau Vallvé recupera a los 25 timbaleros
que ya lo acompañaron en su última Festival Cruïlla 2025… ¡y quién
sabe si alguna otra sorpresa más! Un concierto imprescindible para todas
aquellas personas que han seguido al artista a lo largo de los años,
viéndolo crecer y consolidarse.
Las entradas para esta cita tan especial están ya a la venta en la web de
Cruïlla Concerts.
END:VEVENT
END:VCALENDAR