BEGIN:VCALENDAR
PRODID://WordPress//Event-Post-V5.9.2//EN
VERSION:2.0
BEGIN:VEVENT
SUMMARY:Calva Louise actuarán en Valencia, Madrid y Barcelona este otoño
UID:https://flashesandsounds.com/calva-louise-actuaran-en-valencia-madrid-y-barcelona-este-otono/
LOCATION:Rock City, Valencia/Sala Razzmatazz 2, Barcelona/Sala Mon,Madrid
DTSTAMP:20261030Z
DTSTART:20261030Z
DTEND:20261101Z
DESCRIPTION:La banda londinense Calva Louise nos visitará por primera vez este otoño
para ofrecernos tres conciertos- El trío internacional que une metal con
otros géneros promete un directo de alto voltaje. La historia de Calva
Louise es tan expansiva como su música. Formada por músicos que se
encontraron desde distintos rincones del mundo, la banda británica ha
construido un universo artístico propio donde convergen metal, punk,
electrónica, art rock y metal folklórico en una propuesta de narrativa
cinematográfica y potente identidad visual.

 





La banda visitará nuestro país para presentar las canciones de "Edge of
the Abyss". Gareth McGrillen (Pendulum) coproduce este trabajo bajo el
sello Mascot Records. Podremos verles en Valencia (30 octubre, Rock City),
Barcelona (31 octubre, Razzmatazz 2) y Madrid (1 noviembre, Sala MON
Live).

Las entradas están ya a la venta a través de tomatickets.



En 2026, Calva Louise aterriza por primera vez en España con una gira que
promete convertirse en uno de los eventos alternativos más interesantes
del año. Valencia, Barcelona y Madrid serán las ciudades que recibirán a
la banda, que presentará en directo su nuevo álbum Edge of the Abyss ,
co-producido por Gareth McGrillen (Pendulum) y editado a través de Mascot
Records.

El grupo está integrado por la vocalista y guitarrista venezolana Jess
Allanic, el bajista francés Alizon Taho y el baterista neozelandés Ben
Parker. Juntos destacan por ofrecer conciertos intensos donde la música se
fusiona con una narrativa visual envolvente, creando una experiencia
inmersiva que trasciende el formato tradicional de show en vivo.

Su último trabajo incluye adelantos como “W.T.F”, “Aimless” y
“Lo Que Vale”, reafirmando su capacidad para romper etiquetas y
construir un lenguaje propio. En 2024 fueron destacados por BBC Radio 1
como uno de los proyectos a seguir, confirmando su crecimiento dentro del
circuito alternativo internacional.

Una oportunidad única para descubrir en directo a una banda que no solo
hace música, sino que construye un universo creativo propio y en constante
expansión.
END:VEVENT
END:VCALENDAR