BEGIN:VCALENDAR
PRODID://WordPress//Event-Post-V5.9.2//EN
VERSION:2.0
BEGIN:VEVENT
SUMMARY:Ben Howard actuará en Barcelona a finales de mayo
UID:https://flashesandsounds.com/ben-howard-actuara-en-barcelona-a-finales-de-mayo/
LOCATION:Sala Apolo, Barcelona
DTSTAMP:20260528Z
DTSTART:20260528Z
DTEND:20260528Z
DESCRIPTION:El aclamado artista británico, Ben Howard actuará el 28 de mayo de 2026
en la sala Apolo de Barcelona en su único concierto en España dentro de
su gira europea este verano. En esta cita estará acompañado por la
cantautora Clara Mann como artista invitada. Ben Howard regresa a Europa y
añade siete nuevas fechas a finales de esta primavera. Además de sus
conciertos como artista invitado junto a Zach Bryan, Ben ofrecerá sus
propios shows en España, Francia, Alemania, Suecia, Países Bajos y
Bélgica.
La gira arrancará el 28 de mayo en Barcelona y culminará el 12 de junio
en Amberes, consolidando su vuelta a los escenarios europeos con una serie
de conciertos muy especiales. Organiza Live Nation y podéis comprar las
entradas aquí. 
END:VEVENT
END:VCALENDAR