BEGIN:VCALENDAR
PRODID://WordPress//Event-Post-V5.9.2//EN
VERSION:2.0
BEGIN:VEVENT
SUMMARY:Placebo vuelven a España en su próxima gira de 30 aniversario
UID:https://flashesandsounds.com/placebo-vuelven-a-espana-en-su-proxima-gira-de-30-aniversario/
LOCATION:Movistar Arena,Madrid/Sant Jordi Club, Barcelona
DTSTAMP:20261001Z
DTSTART:20261001Z
DTEND:20261003Z
DESCRIPTION:2026 nos trae otras dos citas ineludibles que marcan en rojo en nuestro
calendario: el legendario trío británico de rock alternativo Placebo
celebra sus tres décadas de trayectoria con el anuncio de Placebo
RE:CREATED, una poderosa reinterpretación del disco que los dio a conocer
al mundo en 1996. El álbum, que revisita su innovador debut con una
perspectiva fresca y actual, se publicará el 19 de junio de 2026. En su
gira conmemorativa, la banda visitará Madrid y Barcelona.

Como parte de esta esperada gira mundial de aniversario, la banda
regresará a España en octubre de 2026 para interpretar los éxitos de sus
dos primeros discos en dos citas imprescindibles: el 1 de octubre en el
Movistar Arena  de Madrid y el 3 de octubre en el St. Jordi Club de
Barcelona.

Llegando en pleno apogeo de la era Britpop, Placebo supuso un marcado
contraste con el estado de ánimo cultural predominante. Mientras gran
parte de la música de guitarras británica de la época se inclinaba hacia
la nostalgia "canalla" y la identidad nacional, el debut de Placebo
ofreció algo mucho más provocador y confrontativo que se escoraba hacia
el glam más desinhibido. Sus canciones abordaban la sexualidad, la
androginia, la adicción con una honestidad raras veces escuchada en el
rock comercial de entonces, estableciendo a la banda como una de las voces
más distintivas de su generación.

Treinta años después, Placebo RE:CREATED ve a la banda regresar a este
álbum fundamental con una perspectiva fresca. El nuevo disco incluye
versiones retrabajadas y embellecidas de las diez pistas del álbum
original, además de dos temas extra, capturando la evolución de estas
canciones tras décadas de interpretación en vivo, pero conservando el
espíritu crudo que las definió. Entre los temas se encuentran los
singlespero que definieron una era, “Nancy Boy” y “36 Degrees”,
canciones que ayudaron a forjar la reputación de Placebo por su lirismo
valiente y su sonido que desafía géneros. Estas nuevas grabaciones
amplifican la urgencia y la actitud que hicieron que las originales
resonaran con tanta fuerza, al tiempo que reflejan el crecimiento y la
experiencia de la banda desde su debut.

Cuando Placebo apareció por primera vez en 1996, la estética y la
perspectiva lírica de la banda desafiaron las expectativas de la cultura
rock británica. Su identidad visual, deliberadamente ambigua, glamourosa y
provocadora, se opuso a las ideas tradicionales de género y masculinidad
en una época en la que esos debates rara vez se colaban en el discurso
dominante. Al hacerlo, Placebo se labró un espacio para un tipo diferente
de voz alternativa, una que resonó profundamente entre un público que se
sentía al margen de la corriente cultural dominante y a la que muchos de
sus contemporáneos siguen haciendo referencia hoy en día.

Hoy en día, los debates en torno a la identidad, la expresión de género
y la individualidad son más visibles, y a menudo más controvertidos, que
nunca. En este contexto, los orígenes del álbum debut de Placebo vuelven
a resultar sorprendentemente relevantes. Placebo RE:CREATED no solo celebra
el legado del álbum original, sino que también destaca su perdurable
importancia cultural, reafirmando lo vanguardista que fue el disco en el
momento de su lanzamiento.

El álbum ha sido recreado por Brian Molko y Rob Kirwan a partir de las
cintas maestras originales y mezclado por Adam Noble. El resultado es una
colección que conserva la inmediatez y el espíritu rebelde del original,
al tiempo que lleva el sonido a nuevos territorios, reflejando tanto la
larga trayectoria de la banda con estas canciones como su continua
evolución creativa. 



Las entradas para los conciertos se pondrán a la venta a final de marzo,
con dos preventas antes de la salida a la venta general, que tendrá lugar
el 27 de marzo.

Os dejamos toda la información de venta de entradas a continuación:

Preventas: 
Live Nation-S.SMusic: a partir del 25 de marzo a las 10h
Live Nation: a partir del 26 de marzo a las 10h

Entradas a la venta: el 27 de marzo a las 10h en Livenation.es,
Ticketmaster y El Corte Inglés. 

Precios:  desde 55€ (+ gastos de distribución)
END:VEVENT
END:VCALENDAR