BEGIN:VCALENDAR
PRODID://WordPress//Event-Post-V5.9.2//EN
VERSION:2.0
BEGIN:VEVENT
SUMMARY:EMPREMTES 2026: UN MOSAICO DE IDENTIDAD
UID:https://flashesandsounds.com/empremtes-2026-un-mosaico-de-identidad/
LOCATION:Sala Apolo, Barcelona
DTSTAMP:20260507Z
DTSTART:20260507Z
DTEND:20260507Z
DESCRIPTION:El ciclo Empremtes 2026 regresa para representar a la Barcelona más
poliédrica con una precisión digna de artesano, configurando esa suerte
de playlist en vivo donde el eclecticismo y la mixología musical son la
bandera. A lo largo de varios meses, los escenarios de la ciudad acogerán
propuestas de gran contraste radical, incluyendo a artistas como The
Abyssinians &amp; Big Youth, El Mato a Un Policia Motorizado, CocoRosie,
Alfred García, Guillem Roma, La Pegatina, Chica Sobresalto, Seguridad
Social y el dúo Sharif &amp; Rapsusklei.

Dentro de esta variada programación, os ofrecemos tres propuestas que a
nosotros nos han llamado especialmente la atención, por supuesto con una
línea estilística bien 

Ketekalles transformará el directo en una celebración que va mucho más
allá de un show, convirtiendo la música en piel, memoria y futuro. La
banda presentará su nuevo material, donde vuelven a fundir raíces,
mestizajes y rebeldía en un viaje que nos recuerda que estar juntos
también es una forma de resistencia. Es una experiencia que desarma lo
esperado y busca el reconocimiento en comunidad. Ketekalles actuará el
sábado 11 de abril de 2026 a las 20:30 h en la Sala Paral·lel 62 de
Barcelona.

Joan Miquel Oliver traerá su particular universo creativo, donde el pop se
funde con letras oníricas en una propuesta que garantiza una energía
sonora constante. El que fuera alma máter de Antònia Font sigue apostando
por la cercanía con el público, permitiendo transportar la atmósfera de
sus composiciones directamente a la platea. Joan Miquel Oliver se
presentará el jueves 7 de mayo de 2026 en la Sala Apolo de Barcelona.

José González ofrecerá una de esas citas imperdibles marcadas por el
carácter íntimo y sencillo de su propuesta, huyendo de la grandilocuencia
para centrarse en la emoción pura. Su virtuosismo con la guitarra y su voz
sosegada crearán un espacio de introspección ideal para los amantes de
las distancias cortas. José González ofrecerá su concierto el miércoles
28 de octubre de 2026 en la sala Paral·lel 62 de Barcelona.

Las entradas para estos conciertos y el resto de la programación están
disponibles en la web oficial del festival.

 
END:VEVENT
END:VCALENDAR