BEGIN:VCALENDAR
PRODID://WordPress//Event-Post-V5.9.2//EN
VERSION:2.0
BEGIN:VEVENT
SUMMARY:Monstruo Laberinto presentaran Negro Fosforito en Madrid en Abril
UID:https://flashesandsounds.com/monstruo-laberinto-presentaran-negro-fosforito-en-madrid-en-abril/
LOCATION:Sala Villanos, Madrid
DTSTAMP:20260430Z
DTSTART:20260430Z
DTEND:20260430Z
DESCRIPTION:Monstruo Laberinto, o lo que es lo mismo, la nueva banda de Nieves Lázaro
(Lázaro) y Manuel Cabezalí (Havalina), presentarán su primer LP, Negro
Fosforito, el próximo 30 de Abril en la Sala Villanos de Madrid. 
El directo trasladará el sonido electrónico (y con ese puntito oscuro que
tanto nos gusta) del disco sin hacer uso de pistas pregrabadas, para lo que
contaran con la ayuda de Victor Cabezuelo (Rufus T Firefly) y Juanma
Padilla a la batería, y también contarán con visuales de Abel Molina
creadas especialmente para esta fecha.
Las entradas ya se pueden conseguir aquí, por 20 €. En puerta el precio
será de 25 €.

[embedyt] https://www.youtube.com/watch?v=98odZ-7JfIs[/embedyt]
[embedyt] https://www.youtube.com/watch?v=LEolS7SoSXU[/embedyt]
[embedyt] https://www.youtube.com/watch?v=94ttqxd1RzE[/embedyt]
[embedyt] https://www.youtube.com/watch?v=xvRKAry4TI4[/embedyt]
END:VEVENT
END:VCALENDAR