BEGIN:VCALENDAR
VERSION:2.0
PRODID:-//Flashes And Sounds - ECPv6.15.20//NONSGML v1.0//EN
CALSCALE:GREGORIAN
METHOD:PUBLISH
X-WR-CALNAME:Flashes And Sounds
X-ORIGINAL-URL:https://flashesandsounds.com
X-WR-CALDESC:Events for Flashes And Sounds
REFRESH-INTERVAL;VALUE=DURATION:PT1H
X-Robots-Tag:noindex
X-PUBLISHED-TTL:PT1H
BEGIN:VTIMEZONE
TZID:Europe/Paris
BEGIN:DAYLIGHT
TZOFFSETFROM:+0100
TZOFFSETTO:+0200
TZNAME:CEST
DTSTART:20190331T010000
END:DAYLIGHT
BEGIN:STANDARD
TZOFFSETFROM:+0200
TZOFFSETTO:+0100
TZNAME:CET
DTSTART:20191027T010000
END:STANDARD
BEGIN:DAYLIGHT
TZOFFSETFROM:+0100
TZOFFSETTO:+0200
TZNAME:CEST
DTSTART:20200329T010000
END:DAYLIGHT
BEGIN:STANDARD
TZOFFSETFROM:+0200
TZOFFSETTO:+0100
TZNAME:CET
DTSTART:20201025T010000
END:STANDARD
BEGIN:DAYLIGHT
TZOFFSETFROM:+0100
TZOFFSETTO:+0200
TZNAME:CEST
DTSTART:20210328T010000
END:DAYLIGHT
BEGIN:STANDARD
TZOFFSETFROM:+0200
TZOFFSETTO:+0100
TZNAME:CET
DTSTART:20211031T010000
END:STANDARD
END:VTIMEZONE
BEGIN:VEVENT
DTSTART;VALUE=DATE:20200229
DTEND;VALUE=DATE:20200301
DTSTAMP:20260420T170248
CREATED:20200228T182937Z
LAST-MODIFIED:20200228T182937Z
UID:22174-1582934400-1583020799@flashesandsounds.com
SUMMARY:Lordi en Madrid
DESCRIPTION:Nuestros monstruos del metal favoritos\, los finlandeses Lordi\, actuarán en Madrid y Barcelona el año que viene. Así lo ha anunciado la promotora que organizará una vez más los conciertos\, Madness Live Prods. Lordi estarán presentando en directo su décimo disco de estudio\, Killection\, aunque a buen seguro tocarán otros temas y grandes éxitos de su carrera.  \n \nLo cierto es que Lordi siempre tiene a nuestro país en cuenta a la hora de girar\, y sus visitas siempre nos hacen disfrutar del lado más gamberro del metal: un perfecto ejemplo fue su paso anterior por aquí\, con la gira Sexorcism Tour. Pero más allá de su impresionante y cuidada puesta en escena\, su directo nunca decepciona a nivel musical y lo defienden con contundencia. Sin duda son una de esas bandas que uno nunca se cansa de ver en concierto. \n \nEstas son las fechas en las que podremos disfrutar de su directo: \n-Sábado 29 de febrero de 2020 – Madrid\, Sala Shoko\n-Domingo 1 de marzo de 2020 – Barcelona\, Sala Razzmatazz \n \n 
URL:https://flashesandsounds.com/event/lordi-en-madrid/
CATEGORIES:Concierto
END:VEVENT
END:VCALENDAR